BEGIN:VCALENDAR
VERSION:2.0
PRODID:researchseminars.org
CALSCALE:GREGORIAN
X-WR-CALNAME:researchseminars.org
BEGIN:VEVENT
SUMMARY:Daniel Steenebrügge (RWTH Aachen)
DTSTART:20200414T170000Z
DTEND:20200414T180000Z
DTSTAMP:20260423T021014Z
UID:OSGA/12
DESCRIPTION:Title: <a href="https://researchseminars.org/talk/OSGA/12/">A 
 speed preserving Hilbert gradient flow for generalized integral Menger cur
 vature</a>\nby Daniel Steenebrügge (RWTH Aachen) as part of Online Semina
 r "Geometric Analysis"\n\nAbstract: TBA\n
LOCATION:https://researchseminars.org/talk/OSGA/12/
END:VEVENT
END:VCALENDAR
