BEGIN:VCALENDAR
VERSION:2.0
PRODID:researchseminars.org
CALSCALE:GREGORIAN
X-WR-CALNAME:researchseminars.org
BEGIN:VEVENT
SUMMARY:Ali Hyder (TIFR-CAM\, Bangalore)
DTSTART:20220524T160000Z
DTEND:20220524T170000Z
DTSTAMP:20260423T035025Z
UID:OSGA/111
DESCRIPTION:Title: <a href="https://researchseminars.org/talk/OSGA/111/">B
 low-up analysis and partial regularity results for Liouville type equation
 s</a>\nby Ali Hyder (TIFR-CAM\, Bangalore) as part of Online Seminar "Geom
 etric Analysis"\n\n\nAbstract\nDue to the presence of the exponential nonl
 inearity\, the Liouville equation in dimension three and higher is supercr
 itical. In particular\, it admits several singular solutions. We will talk
  about asymptotic behavior of a family of stationary solutions\, and how t
 o use it to obtain partial regularity results.\n
LOCATION:https://researchseminars.org/talk/OSGA/111/
END:VEVENT
END:VCALENDAR
