BEGIN:VCALENDAR
VERSION:2.0
PRODID:researchseminars.org
CALSCALE:GREGORIAN
X-WR-CALNAME:researchseminars.org
BEGIN:VEVENT
SUMMARY:Remy Rodiac (University Paris-Saclay)
DTSTART:20200407T170000Z
DTEND:20200407T180000Z
DTSTAMP:20260423T035032Z
UID:OSGA/11
DESCRIPTION:Title: <a href="https://researchseminars.org/talk/OSGA/11/">In
 ner variations and limiting vorticities for the Ginzburg-Landau equations<
 /a>\nby Remy Rodiac (University Paris-Saclay) as part of Online Seminar "G
 eometric Analysis"\n\nAbstract: TBA\n
LOCATION:https://researchseminars.org/talk/OSGA/11/
END:VEVENT
END:VCALENDAR
