BEGIN:VCALENDAR
VERSION:2.0
PRODID:researchseminars.org
CALSCALE:GREGORIAN
X-WR-CALNAME:researchseminars.org
BEGIN:VEVENT
SUMMARY:Hao Chen (Georg-August-Universität Göttingen)
DTSTART:20220412T160000Z
DTEND:20220412T170000Z
DTSTAMP:20260423T035055Z
UID:OSGA/106
DESCRIPTION:Title: <a href="https://researchseminars.org/talk/OSGA/106/">G
 luing constructions of minimal surfaces: Recent progress and future plans<
 /a>\nby Hao Chen (Georg-August-Universität Göttingen) as part of Online 
 Seminar "Geometric Analysis"\n\n\nAbstract\nI will review our recent const
 ructions of minimal surfaces by gluing catenoids\, helicoids\, and saddle 
 towers.  In particular\, we recently resolved some technical issues in pre
 vious similar constructions and revealed surprising connections between mi
 nimal surfaces and fluid dynamics.  Moreover\, I will discuss possibilitie
 s of further improving the gluing techniques.  The talk covers joint works
  with Martin Traizet and Daniel Freese.\n
LOCATION:https://researchseminars.org/talk/OSGA/106/
END:VEVENT
END:VCALENDAR
