BEGIN:VCALENDAR
VERSION:2.0
PRODID:researchseminars.org
CALSCALE:GREGORIAN
X-WR-CALNAME:researchseminars.org
BEGIN:VEVENT
SUMMARY:Walter Strauss (Brown University)
DTSTART:20200915T190000Z
DTEND:20200915T200000Z
DTSTAMP:20260423T021445Z
UID:ONEPAS/1
DESCRIPTION:Title: <a href="https://researchseminars.org/talk/ONEPAS/1/">I
 ntroduction to steady water waves</a>\nby Walter Strauss (Brown University
 ) as part of Online Northeast PDE and Analysis Seminar\n\n\nAbstract\nThis
  is a very basic introduction.  No previous knowledge of water waves is re
 quired. I will mention the high points of the history of water wave theory
 .  Then the fundamental equations inside the water and on the free boundar
 y will be discussed. Finally\, many important directions of current resear
 ch will be briefly outlined.\n
LOCATION:https://researchseminars.org/talk/ONEPAS/1/
END:VEVENT
END:VCALENDAR
