BEGIN:VCALENDAR
VERSION:2.0
PRODID:researchseminars.org
CALSCALE:GREGORIAN
X-WR-CALNAME:researchseminars.org
BEGIN:VEVENT
SUMMARY:Jana Mařiková (Universität Wien)
DTSTART:20211111T190000Z
DTEND:20211111T200000Z
DTSTAMP:20260423T035625Z
UID:OLS/73
DESCRIPTION:Title: <a href="https://researchseminars.org/talk/OLS/73/">Def
 inable matchings in o-minimal bipartite graphs</a>\nby Jana Mařiková (Un
 iversität Wien) as part of Online logic seminar\n\n\nAbstract\nThis talk 
 will revolve around the question\, under what conditions an o-minimally de
 finable bipartite graph admits a\ndefinable matching.  We discuss some con
 text\, a partial result\, and touch on possible applications.  This\nis wo
 rk in progress.\n
LOCATION:https://researchseminars.org/talk/OLS/73/
END:VEVENT
END:VCALENDAR
