BEGIN:VCALENDAR
VERSION:2.0
PRODID:researchseminars.org
CALSCALE:GREGORIAN
X-WR-CALNAME:researchseminars.org
BEGIN:VEVENT
SUMMARY:Michael Hrušák (Universidad Nacional Autónoma de México)
DTSTART:20230216T190000Z
DTEND:20230216T200000Z
DTSTAMP:20260423T035744Z
UID:OLS/110
DESCRIPTION:Title: <a href="https://researchseminars.org/talk/OLS/110/">Mo
 del theory and topological groups</a>\nby Michael Hrušák (Universidad Na
 cional Autónoma de México) as part of Online logic seminar\n\n\nAbstract
 \nWe shall discuss some recent applications of model-theoretic methods to 
 the study of topological groups. In particular\, we shall discuss solution
 s to old problems of Comfort and van Douwen and the use of Fraissé theory
  to the study of groups of homeomorphisms.\n
LOCATION:https://researchseminars.org/talk/OLS/110/
END:VEVENT
END:VCALENDAR
