BEGIN:VCALENDAR
VERSION:2.0
PRODID:researchseminars.org
CALSCALE:GREGORIAN
X-WR-CALNAME:researchseminars.org
BEGIN:VEVENT
SUMMARY:Vincent Bagayoko (Université de Mons)
DTSTART:20221110T190000Z
DTEND:20221110T200000Z
DTSTAMP:20260423T035930Z
UID:OLS/106
DESCRIPTION:Title: <a href="https://researchseminars.org/talk/OLS/106/">So
 me ordered groups of generalized series</a>\nby Vincent Bagayoko (Universi
 té de Mons) as part of Online logic seminar\n\n\nAbstract\nI will talk ab
 out some problems relating linearly ordered groups to logic and real geome
 try.\nI will show how to certain generalized series\, similar to transseri
 es\, in order to answer an open question regarding orderable groups.\n
LOCATION:https://researchseminars.org/talk/OLS/106/
END:VEVENT
END:VCALENDAR
