BEGIN:VCALENDAR
VERSION:2.0
PRODID:researchseminars.org
CALSCALE:GREGORIAN
X-WR-CALNAME:researchseminars.org
BEGIN:VEVENT
SUMMARY:Kay Jin Lim (Nanyang Technological University)
DTSTART:20241001T060000Z
DTEND:20241001T070000Z
DTSTAMP:20260423T021226Z
UID:OISTRTS/59
DESCRIPTION:Title: <a href="https://researchseminars.org/talk/OISTRTS/59/"
 >Integral Basic Algebras</a>\nby Kay Jin Lim (Nanyang Technological Univer
 sity) as part of OIST representation theory seminar\n\nAbstract: TBA\n
LOCATION:https://researchseminars.org/talk/OISTRTS/59/
END:VEVENT
END:VCALENDAR
