BEGIN:VCALENDAR
VERSION:2.0
PRODID:researchseminars.org
CALSCALE:GREGORIAN
X-WR-CALNAME:researchseminars.org
BEGIN:VEVENT
SUMMARY:Öznur Turhan (Galatasaray & Polish Academy)
DTSTART:20260220T124000Z
DTEND:20260220T134000Z
DTSTAMP:20260423T021253Z
UID:OBAGS/78
DESCRIPTION:Title: <a href="https://researchseminars.org/talk/OBAGS/78/">N
 ewton-nondegenerate line singularities\, Lê numbers and Bekka (c)-regular
 ity</a>\nby Öznur Turhan (Galatasaray & Polish Academy) as part of ODTU-B
 ilkent Algebraic Geometry Seminars\n\nAbstract: TBA\n
LOCATION:https://researchseminars.org/talk/OBAGS/78/
END:VEVENT
END:VCALENDAR
