BEGIN:VCALENDAR
VERSION:2.0
PRODID:researchseminars.org
CALSCALE:GREGORIAN
X-WR-CALNAME:researchseminars.org
BEGIN:VEVENT
SUMMARY:Anna  Marie Bohmann (Vanderbilt)
DTSTART:20201110T150000Z
DTEND:20201110T160000Z
DTSTAMP:20260423T021221Z
UID:OATS/16
DESCRIPTION:Title: <a href="https://researchseminars.org/talk/OATS/16/">Al
 gebraic K-theory for Lawvere theories: assembly and Morita invariance</a>\
 nby Anna  Marie Bohmann (Vanderbilt) as part of Online algebraic topology 
 seminar\n\n\nAbstract\nMuch like operads and monads\, Lawvere theories are
  a way of encoding algebraic structures\, such as those of modules over a 
 ring or sets with a group action.  In this talk\, we discuss the algebraic
  K-theory of Lawvere theories\, which contains information about automorph
 ism groups of these structures.  We'll discuss both particular examples an
 d general constructions in the K-theory of Lawvere theories\, including ex
 amples showing the limits of Morita invariance and the construction of ass
 embly-style maps.  This is joint work with Markus Szymik.\n
LOCATION:https://researchseminars.org/talk/OATS/16/
END:VEVENT
END:VCALENDAR
