BEGIN:VCALENDAR
VERSION:2.0
PRODID:researchseminars.org
CALSCALE:GREGORIAN
X-WR-CALNAME:researchseminars.org
BEGIN:VEVENT
SUMMARY:Roberto Albesiano (University of Waterloo)
DTSTART:20241001T180000Z
DTEND:20241001T190000Z
DTSTAMP:20260423T005834Z
UID:OARS/60
DESCRIPTION:Title: <a href="https://researchseminars.org/talk/OARS/60/">A 
 degeneration approach to Skoda’s division theorem</a>\nby Roberto Albesi
 ano (University of Waterloo) as part of OARS Online Analysis Research Semi
 nar\n\nAbstract: TBA\n
LOCATION:https://researchseminars.org/talk/OARS/60/
END:VEVENT
END:VCALENDAR
