BEGIN:VCALENDAR
VERSION:2.0
PRODID:researchseminars.org
CALSCALE:GREGORIAN
X-WR-CALNAME:researchseminars.org
BEGIN:VEVENT
SUMMARY:Camil Muscalu (Cornell University)
DTSTART:20240917T180000Z
DTEND:20240917T190000Z
DTSTAMP:20260423T005702Z
UID:OARS/59
DESCRIPTION:Title: <a href="https://researchseminars.org/talk/OARS/59/">A 
 new approach to the Fourier Extension Problem for the paraboloid</a>\nby C
 amil Muscalu (Cornell University) as part of OARS Online Analysis Research
  Seminar\n\n\nAbstract\nThe plan of the talk is to describe a new approach
  to the so-called Restriction Conjectures\, that Itamar Oliveira and I hav
 e developed recently. Without entering into details\, this new point of vi
 ew allows one to prove that (essentially) all the relevant conjectures (li
 near or multi-linear) are true\, provided that one of the functions involv
 ed has a tensor structure.\n
LOCATION:https://researchseminars.org/talk/OARS/59/
END:VEVENT
END:VCALENDAR
