BEGIN:VCALENDAR
VERSION:2.0
PRODID:researchseminars.org
CALSCALE:GREGORIAN
X-WR-CALNAME:researchseminars.org
BEGIN:VEVENT
SUMMARY:John Green (Edinburgh/Penn)
DTSTART:20221114T220000Z
DTEND:20221114T230000Z
DTSTAMP:20260423T005650Z
UID:OARS/45
DESCRIPTION:Title: <a href="https://researchseminars.org/talk/OARS/45/">Es
 timates for scalar oscillatory integrals: Structure\, stability and method
 s that use them</a>\nby John Green (Edinburgh/Penn) as part of OARS Online
  Analysis Research Seminar\n\n\nAbstract\nOscillatory integrals are a basi
 c object of study in Harmonic Analysis and underpin many important problem
 s. The goal of this talk will be to reflect on some elementary yet importa
 nt observations on the role of structure in estimating oscillatory integra
 ls\, and to discuss some recent works that capture this philosophy.\n
LOCATION:https://researchseminars.org/talk/OARS/45/
END:VEVENT
END:VCALENDAR
