BEGIN:VCALENDAR
VERSION:2.0
PRODID:researchseminars.org
CALSCALE:GREGORIAN
X-WR-CALNAME:researchseminars.org
BEGIN:VEVENT
SUMMARY:Rajula Srivastava (UW Madison)
DTSTART:20201012T210000Z
DTEND:20201012T220000Z
DTSTAMP:20260423T004730Z
UID:OARS/2
DESCRIPTION:Title: <a href="https://researchseminars.org/talk/OARS/2/">Ort
 hogonal systems of spline wavelets as unconditional bases in Sobolev space
 s</a>\nby Rajula Srivastava (UW Madison) as part of OARS Online Analysis R
 esearch Seminar\n\n\nAbstract\nWe exhibit the necessary range for which fu
 nctions in the Sobolev spaces $L^s_p$ can be represented as an uncondition
 al sum of orthonormal spline wavelet systems\, such as the Battle-Lemari\\
 'e wavelets. We also consider the natural extensions to Triebel-Lizorkin s
 paces. This builds upon\, and is a generalization of\, previous work of Se
 eger and Ullrich\, where analogous results were established for the Haar w
 avelet system.\n
LOCATION:https://researchseminars.org/talk/OARS/2/
END:VEVENT
END:VCALENDAR
