BEGIN:VCALENDAR
VERSION:2.0
PRODID:researchseminars.org
CALSCALE:GREGORIAN
X-WR-CALNAME:researchseminars.org
BEGIN:VEVENT
SUMMARY:Han Huang (Georgia Institute of Technology)
DTSTART:20210216T153000Z
DTEND:20210216T163000Z
DTSTAMP:20260423T035823Z
UID:OAGAS/54
DESCRIPTION:Title: <a href="https://researchseminars.org/talk/OAGAS/54/">R
 ank of Sparse Bernoulli Matrices</a>\nby Han Huang (Georgia Institute of T
 echnology) as part of Online asymptotic geometric analysis seminar\n\n\nAb
 stract\nLet A be an n by n Bernoulli(p) matrix with  p satisfies  1<= pn/ 
 log(n) < +infty. For a fixed positive integer k\, the probability that  (n
 -k+1)-th singular value of A equals 0 is (1+o(1)) of the probability that 
 A contains k zero columns or k zero rows.\n
LOCATION:https://researchseminars.org/talk/OAGAS/54/
END:VEVENT
END:VCALENDAR
