BEGIN:VCALENDAR
VERSION:2.0
PRODID:researchseminars.org
CALSCALE:GREGORIAN
X-WR-CALNAME:researchseminars.org
BEGIN:VEVENT
SUMMARY:Santosh Vempala (Georgia Tech)
DTSTART:20200915T143000Z
DTEND:20200915T153000Z
DTSTAMP:20260423T035915Z
UID:OAGAS/31
DESCRIPTION:Title: <a href="https://researchseminars.org/talk/OAGAS/31/">R
 educing Isotropy to KLS: An n^3\\psi^2 Volume Algorithm</a>\nby Santosh Ve
 mpala (Georgia Tech) as part of Online asymptotic geometric analysis semin
 ar\n\nAbstract: TBA\n
LOCATION:https://researchseminars.org/talk/OAGAS/31/
END:VEVENT
END:VCALENDAR
