BEGIN:VCALENDAR
VERSION:2.0
PRODID:researchseminars.org
CALSCALE:GREGORIAN
X-WR-CALNAME:researchseminars.org
BEGIN:VEVENT
SUMMARY:Orli Herscovici (University of Haifa)
DTSTART:20200620T153000Z
DTEND:20200620T163000Z
DTSTAMP:20260423T035916Z
UID:OAGAS/23
DESCRIPTION:Title: <a href="https://researchseminars.org/talk/OAGAS/23/">T
 he best constant in the Khinchine inequality for slightly dependent random
  variables</a>\nby Orli Herscovici (University of Haifa) as part of Online
  asymptotic geometric analysis seminar\n\n\nAbstract\nWe solve the open pr
 oblem of determining the best constant in the Khintchine inequality under 
 condition that the Rademacher random variables are slightly dependent. We 
 also mention some applications in statistics of the above result. The talk
  is based on a joint work with Susanna Spektor.\n
LOCATION:https://researchseminars.org/talk/OAGAS/23/
END:VEVENT
END:VCALENDAR
