BEGIN:VCALENDAR
VERSION:2.0
PRODID:researchseminars.org
CALSCALE:GREGORIAN
X-WR-CALNAME:researchseminars.org
BEGIN:VEVENT
SUMMARY:Károly Böröczky (Central European University)
DTSTART:20200418T153000Z
DTEND:20200418T163000Z
DTSTAMP:20260423T052623Z
UID:OAGAS/2
DESCRIPTION:Title: <a href="https://researchseminars.org/talk/OAGAS/2/">Sy
 mmetry and Structure within the Log-Brunn-Minkowski Conjecture</a>\nby Ká
 roly Böröczky (Central European University) as part of Online asymptotic
  geometric analysis seminar\n\n\nAbstract\nAfter reviewing some formulatio
 ns of the Log-Brunn-Minkowski Conjecture in R^n in terms of Monge-Ampere e
 quations\, of Hilbert Operator and of Brunn-Minkowski Theory\, I will repo
 rt on some recent advances\, like Livshyts' and Kolesnikov's improvement o
 n the fundamental approach of Milman and Kolesnikov\, and the verification
  of the conjecture for bodies with n hyperplane symmetries by Kalantzopoul
 os and myself using an idea due to Bathe and Fradelizi.\n
LOCATION:https://researchseminars.org/talk/OAGAS/2/
END:VEVENT
END:VCALENDAR
