BEGIN:VCALENDAR
VERSION:2.0
PRODID:researchseminars.org
CALSCALE:GREGORIAN
X-WR-CALNAME:researchseminars.org
BEGIN:VEVENT
SUMMARY:Elisabeth Werner (Case Western Reserve University)
DTSTART:20200414T143000Z
DTEND:20200414T153000Z
DTSTAMP:20260423T021241Z
UID:OAGAS/1
DESCRIPTION:Title: <a href="https://researchseminars.org/talk/OAGAS/1/">Co
 nstrained convex bodies with maximal affine surface area</a>\nby Elisabeth
  Werner (Case Western Reserve University) as part of Online asymptotic geo
 metric analysis seminar\n\n\nAbstract\nGiven a convex body K in R^n\, we s
 tudy the maximal affine surface area of K\, i.e.\, the quantity AS(K) = su
 p_{C} as(C) where as(C) denotes the affine surface area of C\, and the sup
 remum is taken over all convex subsets of K. In particular\, we give asymp
 totic estimates on the size of AS(K).\n
LOCATION:https://researchseminars.org/talk/OAGAS/1/
END:VEVENT
END:VCALENDAR
