BEGIN:VCALENDAR
VERSION:2.0
PRODID:researchseminars.org
CALSCALE:GREGORIAN
X-WR-CALNAME:researchseminars.org
BEGIN:VEVENT
SUMMARY:Emily King (Colorado State University)
DTSTART:20210611T130000Z
DTEND:20210611T143000Z
DTSTAMP:20260423T035727Z
UID:OAAA/30
DESCRIPTION:Title: <a href="https://researchseminars.org/talk/OAAA/30/">Ap
 plications of Group Symmetry</a>\nby Emily King (Colorado State University
 ) as part of Applied Algebra and Analysis Online Seminar\n\nAbstract: TBA\
 n
LOCATION:https://researchseminars.org/talk/OAAA/30/
END:VEVENT
END:VCALENDAR
