BEGIN:VCALENDAR
VERSION:2.0
PRODID:researchseminars.org
CALSCALE:GREGORIAN
X-WR-CALNAME:researchseminars.org
BEGIN:VEVENT
SUMMARY:Simon Telen (MPI MiS)
DTSTART:20210528T130000Z
DTEND:20210528T143000Z
DTSTAMP:20260423T035746Z
UID:OAAA/28
DESCRIPTION:Title: <a href="https://researchseminars.org/talk/OAAA/28/">A 
 normal form method for numerical tensor rank decomposition</a>\nby Simon T
 elen (MPI MiS) as part of Applied Algebra and Analysis Online Seminar\n\nA
 bstract: TBA\n
LOCATION:https://researchseminars.org/talk/OAAA/28/
END:VEVENT
END:VCALENDAR
