BEGIN:VCALENDAR
VERSION:2.0
PRODID:researchseminars.org
CALSCALE:GREGORIAN
X-WR-CALNAME:researchseminars.org
BEGIN:VEVENT
SUMMARY:Daniel Plaumann (TU Dortmund)
DTSTART:20210430T130000Z
DTEND:20210430T143000Z
DTSTAMP:20260423T035934Z
UID:OAAA/24
DESCRIPTION:Title: <a href="https://researchseminars.org/talk/OAAA/24/">Fa
 milies of faces for convex semi-algebraic sets</a>\nby Daniel Plaumann (TU
  Dortmund) as part of Applied Algebra and Analysis Online Seminar\n\nAbstr
 act: TBA\n
LOCATION:https://researchseminars.org/talk/OAAA/24/
END:VEVENT
END:VCALENDAR
