BEGIN:VCALENDAR
VERSION:2.0
PRODID:researchseminars.org
CALSCALE:GREGORIAN
X-WR-CALNAME:researchseminars.org
BEGIN:VEVENT
SUMMARY:Dr. Jonathan de Roo (UBasel)
DTSTART:20201125T160000Z
DTEND:20201125T170000Z
DTSTAMP:20260423T022141Z
UID:NiNC/7
DESCRIPTION:Title: <a href="https://researchseminars.org/talk/NiNC/7/">The
  surface chemistry of colloidal nanocrystals\; empowered by NMR</a>\nby Dr
 . Jonathan de Roo (UBasel) as part of News in Nanocrystals\n\nAbstract: TB
 A\n
LOCATION:https://researchseminars.org/talk/NiNC/7/
END:VEVENT
END:VCALENDAR
