BEGIN:VCALENDAR
VERSION:2.0
PRODID:researchseminars.org
CALSCALE:GREGORIAN
X-WR-CALNAME:researchseminars.org
BEGIN:VEVENT
SUMMARY:Dr. Detlef-M. Smilgies\, Dr. Burak Güzeltürk
DTSTART:20210609T150000Z
DTEND:20210609T160000Z
DTSTAMP:20260423T023020Z
UID:NiNC/20
DESCRIPTION:Title: <a href="https://researchseminars.org/talk/NiNC/20/">Sy
 nchrotron-based methods for nanocrystal research</a>\nby Dr. Detlef-M. Smi
 lgies\, Dr. Burak Güzeltürk as part of News in Nanocrystals\n\nAbstract:
  TBA\n
LOCATION:https://researchseminars.org/talk/NiNC/20/
END:VEVENT
END:VCALENDAR
