BEGIN:VCALENDAR
VERSION:2.0
PRODID:researchseminars.org
CALSCALE:GREGORIAN
X-WR-CALNAME:researchseminars.org
BEGIN:VEVENT
SUMMARY:Fabio Cipriani (Politecnico di Milano)
DTSTART:20210714T190000Z
DTEND:20210714T200000Z
DTSTAMP:20260420T053534Z
UID:NYC-NCG/60
DESCRIPTION:Title: <a href="https://researchseminars.org/talk/NYC-NCG/60/"
 >On a noncommutative Sierpiński gasket</a>\nby Fabio Cipriani (Politecnic
 o di Milano) as part of Noncommutative geometry in NYC\n\n\nAbstract\nWe i
 llustrate the construction of a C*-algebra A that can be genuinely interpr
 eted as a quantization of the classical Sierpiński gasket\, the most stud
 ied instance of a self-similar fractal space. We further describe the disc
 rete and continuous spectrum of A\, the structure of the traces on A as we
 ll as the construction of a Dirichlet form E and of a spectral triple (A\,
 D\,H).\n
LOCATION:https://researchseminars.org/talk/NYC-NCG/60/
END:VEVENT
END:VCALENDAR
