BEGIN:VCALENDAR
VERSION:2.0
PRODID:researchseminars.org
CALSCALE:GREGORIAN
X-WR-CALNAME:researchseminars.org
BEGIN:VEVENT
SUMMARY:Shanna Dobson (California State University\, Los Angeles)
DTSTART:20210623T190000Z
DTEND:20210623T200000Z
DTSTAMP:20260420T053409Z
UID:NYC-NCG/58
DESCRIPTION:Title: <a href="https://researchseminars.org/talk/NYC-NCG/58/"
 >Pro-Diamond and the Geometrization of Local Langlands</a>\nby Shanna Dobs
 on (California State University\, Los Angeles) as part of Noncommutative g
 eometry in NYC\n\n\nAbstract\nWe recently conjectured a pro-diamond in our
  Efimov K-theory of Diamonds\, for diamonds in the sense of Scholze. In th
 is talk\, we discuss our pro-diamond formalism and survey the many incarna
 tions of diamonds in the geometrization of the local Langlands Corresponde
 nce.\n
LOCATION:https://researchseminars.org/talk/NYC-NCG/58/
END:VEVENT
END:VCALENDAR
