BEGIN:VCALENDAR
VERSION:2.0
PRODID:researchseminars.org
CALSCALE:GREGORIAN
X-WR-CALNAME:researchseminars.org
BEGIN:VEVENT
SUMMARY:Francesc Perera (Universitat Autònoma de Barcelona)
DTSTART:20210609T190000Z
DTEND:20210609T200000Z
DTSTAMP:20260420T053204Z
UID:NYC-NCG/57
DESCRIPTION:Title: <a href="https://researchseminars.org/talk/NYC-NCG/57/"
 >Traces on ultrapower C*-algebras</a>\nby Francesc Perera (Universitat Aut
 ònoma de Barcelona) as part of Noncommutative geometry in NYC\n\n\nAbstra
 ct\nEvery sequence of traces on a C*-algebra induces a limit trace on a fr
 ee ultrapower. I will discuss the natural question of characterizing when 
 this set of limit traces is dense\, and mention the use of techniques comi
 ng from the theory of Cuntz semigroups to obtain such a characterization. 
 This talk is based on joint work with Ramon Antoine\, Leonel Robert\, and 
 Hannes Thiel.\n
LOCATION:https://researchseminars.org/talk/NYC-NCG/57/
END:VEVENT
END:VCALENDAR
