BEGIN:VCALENDAR
VERSION:2.0
PRODID:researchseminars.org
CALSCALE:GREGORIAN
X-WR-CALNAME:researchseminars.org
BEGIN:VEVENT
SUMMARY:Igor Fulman (Arizona State University)
DTSTART:20210505T190000Z
DTEND:20210505T200000Z
DTSTAMP:20260420T052654Z
UID:NYC-NCG/48
DESCRIPTION:Title: <a href="https://researchseminars.org/talk/NYC-NCG/48/"
 >Introduction to von Neumann Algebras\, II</a>\nby Igor Fulman (Arizona St
 ate University) as part of Noncommutative geometry in NYC\n\n\nAbstract\nF
 actors. Direct sum of factors. Finite and infinite projections. Purely inf
 inite projections. Factors of type I\, II and III. Examples.\n
LOCATION:https://researchseminars.org/talk/NYC-NCG/48/
END:VEVENT
END:VCALENDAR
