BEGIN:VCALENDAR
VERSION:2.0
PRODID:researchseminars.org
CALSCALE:GREGORIAN
X-WR-CALNAME:researchseminars.org
BEGIN:VEVENT
SUMMARY:Goncalo Tabuada (University of Warwick)
DTSTART:20210120T160000Z
DTEND:20210120T170000Z
DTSTAMP:20260420T053047Z
UID:NYC-NCG/34
DESCRIPTION:Title: <a href="https://researchseminars.org/talk/NYC-NCG/34/"
 >Noncommutative Weil conjecture</a>\nby Goncalo Tabuada (University of War
 wick) as part of Noncommutative geometry in NYC\n\n\nAbstract\nThe Weil co
 njectures (proved by Deligne in the 70's) played a key role in the develop
 ment of modern algebraic geometry. In this talk I will extend the Weil con
 jectures from the realm of algebraic geometry to the broad noncommutative 
 setting of differential graded categories and describe some of its numerou
 s applications.\n
LOCATION:https://researchseminars.org/talk/NYC-NCG/34/
END:VEVENT
END:VCALENDAR
