BEGIN:VCALENDAR
VERSION:2.0
PRODID:researchseminars.org
CALSCALE:GREGORIAN
X-WR-CALNAME:researchseminars.org
BEGIN:VEVENT
SUMMARY:Sayan Chakraborty (Indian Statistical Institute\, Kolkata)
DTSTART:20200923T190000Z
DTEND:20200923T200000Z
DTSTAMP:20260420T053103Z
UID:NYC-NCG/24
DESCRIPTION:Title: <a href="https://researchseminars.org/talk/NYC-NCG/24/"
 >Morita equivalence of noncommutative orbifolds</a>\nby Sayan Chakraborty 
 (Indian Statistical Institute\, Kolkata) as part of Noncommutative geometr
 y in NYC\n\n\nAbstract\nWe consider group actions on noncommutative tori a
 nd study the corresponding 'noncommutative quotients' as crossed product C
 *-algebras. We will show how such actions appear naturally and also give M
 orita equivalence classes of such crossed products. The results are an ext
 ension of similar results obtained by Elliott and Rieffiel for the case of
  noncommutative tori.\n
LOCATION:https://researchseminars.org/talk/NYC-NCG/24/
END:VEVENT
END:VCALENDAR
