BEGIN:VCALENDAR
VERSION:2.0
PRODID:researchseminars.org
CALSCALE:GREGORIAN
X-WR-CALNAME:researchseminars.org
BEGIN:VEVENT
SUMMARY:Ilnur Baibulov (St Petersburg State University)
DTSTART:20240221T200000Z
DTEND:20240221T210000Z
DTSTAMP:20260420T052528Z
UID:NYC-NCG/155
DESCRIPTION:Title: <a href="https://researchseminars.org/talk/NYC-NCG/155/
 ">The spectrum of the C*-algebra of singular integral operators with semi-
 almost periodic coefficients</a>\nby Ilnur Baibulov (St Petersburg State U
 niversity) as part of Noncommutative geometry in NYC\n\n\nAbstract\nThe $C
 ^*$-algebra generated by one-dimensional singular integral operators in $L
 _2(\\mathbb{R})$ is studied. The coefficients are assumed to be continuous
  and stabilizing at infinity to almost periodic functions. In this talk I 
 will describe the primitive spectrum of this algebra. The talk is based on
  collaborative work with O.V. Sarafanov.\n
LOCATION:https://researchseminars.org/talk/NYC-NCG/155/
END:VEVENT
END:VCALENDAR
