BEGIN:VCALENDAR
VERSION:2.0
PRODID:researchseminars.org
CALSCALE:GREGORIAN
X-WR-CALNAME:researchseminars.org
BEGIN:VEVENT
SUMMARY:Sergii Bezuglyi (University of  Iowa)
DTSTART:20221115T190000Z
DTEND:20221115T200000Z
DTSTAMP:20260420T053410Z
UID:NYC-NCG/114
DESCRIPTION:Title: <a href="https://researchseminars.org/talk/NYC-NCG/114/
 ">Dynamics and measures on generalized Bratteli diagrams</a>\nby Sergii Be
 zuglyi (University of  Iowa) as part of Noncommutative geometry in NYC\n\n
 \nAbstract\nIn the talk\, I discuss measures on the path space of\ngeneral
 ized Bratteli diagrams. We consider self-similar measures (called\nalso IF
 S measures) on the path space of discrete and measurable Bratteli\ndiagram
 s. In the literature\, similarity may be defined by systems of\naffine map
 s (Sierpinski) or systems of conformal maps (Julia). We study\nnew classes
  of iterated function systems associated to stationary generalized\nBratte
 li diagrams. For the corresponding iterated function\nsystems\, we further
  identify the measures which are also shift-invariant.\nThe talk is based 
 on joint papers with Palle Jorgensen.\n
LOCATION:https://researchseminars.org/talk/NYC-NCG/114/
END:VEVENT
END:VCALENDAR
