BEGIN:VCALENDAR
VERSION:2.0
PRODID:researchseminars.org
CALSCALE:GREGORIAN
X-WR-CALNAME:researchseminars.org
BEGIN:VEVENT
SUMMARY:Ade Irma Suriajaya (Kyushu University at Fukuoka\, Japan)
DTSTART:20200626T110000Z
DTEND:20200626T120000Z
DTSTAMP:20260423T021447Z
UID:NTdL/9
DESCRIPTION:Title: <a href="https://researchseminars.org/talk/NTdL/9/">The
  Julia line of a Riemann-type functional equation</a>\nby Ade Irma Suriaja
 ya (Kyushu University at Fukuoka\, Japan) as part of Number theory during 
 lockdown\n\n\nAbstract\nThe notion of a Julia line is a concept introduced
  by Gaston Julia about one hundred years ago in his improvement upon Picar
 d's Great Theorem. In this talk we apply this idea to Dirichlet series sat
 isfying a Riemann-type functional equation (more precisely\, Dirichlet ser
 ies with periodic coefficients and\, if there is enough time\, elements of
  theextended Selberg class) and discuss aspects of their value-distributio
 n. This is joint work in progress with Jörn Steuding  (University of Wür
 zburg) and Thanasis Sourmelidis (Graz University of Technology)\, and it e
 xtends previous joint work of Jörn Steuding with Justas Kalpokas and Maxi
 m Korolev (Steklov Mathematical Institute of Russian Academy of Sciences).
 \n
LOCATION:https://researchseminars.org/talk/NTdL/9/
END:VEVENT
END:VCALENDAR
