BEGIN:VCALENDAR
VERSION:2.0
PRODID:researchseminars.org
CALSCALE:GREGORIAN
X-WR-CALNAME:researchseminars.org
BEGIN:VEVENT
SUMMARY:Matteo Tamiozzo (Imperial College London)
DTSTART:20220428T094500Z
DTEND:20220428T104500Z
DTSTAMP:20260423T021419Z
UID:NTUniPD/6
DESCRIPTION:Title: <a href="https://researchseminars.org/talk/NTUniPD/6/">
 Geodesics on modular surfaces and functional transcendence</a>\nby Matteo 
 Tamiozzo (Imperial College London) as part of Number Theory Seminars at Un
 iversità degli Studi di Padova\n\n\nAbstract\nThe approach to the André-
 Oort conjecture suggested by Pila-Zannier relies on the study of (complex)
  subvarieties of Shimura varieties (and their universal cover) from the vi
 ewpoint of functional transcendence. I will first recall the main results 
 of this theory in the simplest case of the product of two modular curves. 
 I will then deduce analogous theorems for real subvarieties of a modular c
 urve seen as a real algebraic surface.\n
LOCATION:https://researchseminars.org/talk/NTUniPD/6/
END:VEVENT
END:VCALENDAR
