BEGIN:VCALENDAR
VERSION:2.0
PRODID:researchseminars.org
CALSCALE:GREGORIAN
X-WR-CALNAME:researchseminars.org
BEGIN:VEVENT
SUMMARY:Andrew Granville (Universite de Montreal)
DTSTART:20201006T220000Z
DTEND:20201006T230000Z
DTSTAMP:20260423T024801Z
UID:NTDU8/3
DESCRIPTION:Title: <a href="https://researchseminars.org/talk/NTDU8/3/">Th
 e distribution of primes in short intervals</a>\nby Andrew Granville (Univ
 ersite de Montreal) as part of Number Theory Down Under 8\n\nAbstract: TBA
 \n
LOCATION:https://researchseminars.org/talk/NTDU8/3/
END:VEVENT
END:VCALENDAR
