BEGIN:VCALENDAR
VERSION:2.0
PRODID:researchseminars.org
CALSCALE:GREGORIAN
X-WR-CALNAME:researchseminars.org
BEGIN:VEVENT
SUMMARY:Oleg German (Moscow State University)
DTSTART:20201008T083000Z
DTEND:20201008T090000Z
DTSTAMP:20260423T010132Z
UID:NTDU8/27
DESCRIPTION:Title: <a href="https://researchseminars.org/talk/NTDU8/27/">M
 ultiparametric approach towards Diophantine approximation with weights</a>
 \nby Oleg German (Moscow State University) as part of Number Theory Down U
 nder 8\n\nAbstract: TBA\n
LOCATION:https://researchseminars.org/talk/NTDU8/27/
END:VEVENT
END:VCALENDAR
