BEGIN:VCALENDAR
VERSION:2.0
PRODID:researchseminars.org
CALSCALE:GREGORIAN
X-WR-CALNAME:researchseminars.org
BEGIN:VEVENT
SUMMARY:Denis Koleda (The Institute of Mathematics of NAS of Belarus)
DTSTART:20201007T103000Z
DTEND:20201007T110000Z
DTSTAMP:20260423T010132Z
UID:NTDU8/22
DESCRIPTION:Title: <a href="https://researchseminars.org/talk/NTDU8/22/">A
 lgebraic integers vs. algebraic numbers: distribution on the real line</a>
 \nby Denis Koleda (The Institute of Mathematics of NAS of Belarus) as part
  of Number Theory Down Under 8\n\nAbstract: TBA\n
LOCATION:https://researchseminars.org/talk/NTDU8/22/
END:VEVENT
END:VCALENDAR
