BEGIN:VCALENDAR
VERSION:2.0
PRODID:researchseminars.org
CALSCALE:GREGORIAN
X-WR-CALNAME:researchseminars.org
BEGIN:VEVENT
SUMMARY:Nicolás Fernández
DTSTART:20201208T130000Z
DTEND:20201208T133000Z
DTSTAMP:20260423T040335Z
UID:NTDM2020/7
DESCRIPTION:Title: <a href="https://researchseminars.org/talk/NTDM2020/7/"
 >Freeze-in versus Glaciation: freezing into a thermalized hidden sector</a
 >\nby Nicolás Fernández as part of ICTP-SAIFR Workshop on New Trends in 
 Dark Matter\n\nAbstract: TBA\n
LOCATION:https://researchseminars.org/talk/NTDM2020/7/
END:VEVENT
END:VCALENDAR
