BEGIN:VCALENDAR
VERSION:2.0
PRODID:researchseminars.org
CALSCALE:GREGORIAN
X-WR-CALNAME:researchseminars.org
BEGIN:VEVENT
SUMMARY:André Lessa
DTSTART:20201209T130000Z
DTEND:20201209T133000Z
DTSTAMP:20260423T023931Z
UID:NTDM2020/14
DESCRIPTION:Title: <a href="https://researchseminars.org/talk/NTDM2020/14/
 ">Narrowing down Dark Matter scenarios with the help of colliders</a>\nby 
 André Lessa as part of ICTP-SAIFR Workshop on New Trends in Dark Matter\n
 \nAbstract: TBA\n
LOCATION:https://researchseminars.org/talk/NTDM2020/14/
END:VEVENT
END:VCALENDAR
