BEGIN:VCALENDAR
VERSION:2.0
PRODID:researchseminars.org
CALSCALE:GREGORIAN
X-WR-CALNAME:researchseminars.org
BEGIN:VEVENT
SUMMARY:Jit Wu Yap (MIT)
DTSTART:20250922T200000Z
DTEND:20250922T210000Z
DTSTAMP:20260423T040547Z
UID:NTBU/28
DESCRIPTION:Title: <a href="https://researchseminars.org/talk/NTBU/28/">On
  Uniform Boundedness of Torsion Points for Abelian Varieties over Function
  Fields</a>\nby Jit Wu Yap (MIT) as part of Boston University Number Theor
 y Seminar\n\nLecture held in CDS Room 548 in Boston University.\n\nAbstrac
 t\nLet $K$ be the function field of a smooth projective curve $B$ over the
  complex numbers and let $g$ be a positive integer. The uniform boundednes
 s conjecture predicts that there exists a constant $N$\, depending only on
  $g$ and $K$\, such that for any $g$-dimensional abelian variety $A$ over 
 $K$\, any $K$-rational torsion point of $A$ must have order at most $N$. I
 n this talk\, we will discuss some recent progress under the assumption th
 at $A$ has semistable reduction over $K$. This is joint work with Nicole L
 ooper.\n
LOCATION:https://researchseminars.org/talk/NTBU/28/
END:VEVENT
END:VCALENDAR
