BEGIN:VCALENDAR
VERSION:2.0
PRODID:researchseminars.org
CALSCALE:GREGORIAN
X-WR-CALNAME:researchseminars.org
BEGIN:VEVENT
SUMMARY:Abbas Maarefparvar (U of Lethbridge)
DTSTART:20241115T220000Z
DTEND:20241115T230000Z
DTSTAMP:20260423T010101Z
UID:NT-UBC/4
DESCRIPTION:Title: <a href="https://researchseminars.org/talk/NT-UBC/4/">T
 he Ostrowski Quotient for a finite extension of number fields</a>\nby Abba
 s Maarefparvar (U of Lethbridge) as part of UBC Number theory seminar\n\nL
 ecture held in ESB4133.\nAbstract: TBA\n
LOCATION:https://researchseminars.org/talk/NT-UBC/4/
END:VEVENT
END:VCALENDAR
