BEGIN:VCALENDAR
VERSION:2.0
PRODID:researchseminars.org
CALSCALE:GREGORIAN
X-WR-CALNAME:researchseminars.org
BEGIN:VEVENT
SUMMARY:Nikta Fakhri (MIT)
DTSTART:20220603T133000Z
DTEND:20220603T140000Z
DTSTAMP:20260423T004825Z
UID:NN22/14
DESCRIPTION:Title: <a href="https://researchseminars.org/talk/NN22/14/">Br
 oken Symmetries in Living Systems</a>\nby Nikta Fakhri (MIT) as part of Nu
 mbers and Nature 2022\n\nLecture held in Lecture Hall 6-120\, Building 6.\
 nAbstract: TBA\n
LOCATION:https://researchseminars.org/talk/NN22/14/
END:VEVENT
END:VCALENDAR
