BEGIN:VCALENDAR
VERSION:2.0
PRODID:researchseminars.org
CALSCALE:GREGORIAN
X-WR-CALNAME:researchseminars.org
BEGIN:VEVENT
SUMMARY:Masanori Hanada (University of Surrey)
DTSTART:20220516T081500Z
DTEND:20220516T091500Z
DTSTAMP:20260423T005721Z
UID:NMTP2022/4
DESCRIPTION:Title: <a href="https://researchseminars.org/talk/NMTP2022/4/"
 >Black Hole from Matrices</a>\nby Masanori Hanada (University of Surrey) a
 s part of Numerical Methods in Theoretical Physics\n\n\nAbstract\nMatrix m
 odels can describe black hole via holography. I will review numerical appr
 oaches which were successful in the past\, and discuss the necessity of ne
 w methods for tackling certain fascinating problems.\n
LOCATION:https://researchseminars.org/talk/NMTP2022/4/
END:VEVENT
END:VCALENDAR
