BEGIN:VCALENDAR
VERSION:2.0
PRODID:researchseminars.org
CALSCALE:GREGORIAN
X-WR-CALNAME:researchseminars.org
BEGIN:VEVENT
SUMMARY:Elias Kiritsis (Univ. of Crete)
DTSTART:20231109T090000Z
DTEND:20231109T100000Z
DTSTAMP:20260423T024827Z
UID:NKUA-HEP/6
DESCRIPTION:Title: <a href="https://researchseminars.org/talk/NKUA-HEP/6/"
 >Holographic cosmological reheating [Canceled]</a>\nby Elias Kiritsis (Uni
 v. of Crete) as part of NKUA HEP Seminars\n\nLecture held in Αίθουσ
 α συνεδριάσεων του Τμήματος Φυσικής ΕΚΠ
 Α (2ος όροφος).\n\nAbstract\nAccording to the inflationary theory
  of cosmology\, most elementary particles in the current universe were cre
 ated during a period of reheating after inflation.  We self-consistently c
 ouple the Einstein-inflaton equations to a strongly coupled quantum field 
 theory (QFT) which is holographic.\n\nWe solve for the cosmological evolut
 ion and show that this leads to an inflating universe\, a fast reheating p
 hase and finally a universe dominated by the QFT in thermal equilibrium.\n
LOCATION:https://researchseminars.org/talk/NKUA-HEP/6/
END:VEVENT
END:VCALENDAR
