BEGIN:VCALENDAR
VERSION:2.0
PRODID:researchseminars.org
CALSCALE:GREGORIAN
X-WR-CALNAME:researchseminars.org
BEGIN:VEVENT
SUMMARY:Δήμητρα Τσιώνου (National Taiwan University)
DTSTART:20250916T120000Z
DTEND:20250916T133000Z
DTSTAMP:20260423T024830Z
UID:NKUA-HEP/49
DESCRIPTION:Title: <a href="https://researchseminars.org/talk/NKUA-HEP/49/
 ">Μετρήσεις ακρίβειας με ανιχνευτές στοι
 χειωδών σωματιδίων</a>\nby Δήμητρα Τσιώνου 
 (National Taiwan University) as part of NKUA HEP Seminars\n\n\nAbstract\n
 Πρόγραμμα σεμιναρίων για την θέση Επίκο
 υρου Καθηγητή\nΠειραματικής Φυσικής Στο
 ιχειωδών Σωματιδίων (APP35102)\nΤομέας Πυρην
 ικής Φυσικής και Φυσικής Στοιχειωδών Σω
 ματιδίων\, Τμήμα Φυσικής\, ΕΚΠΑ\n
LOCATION:https://researchseminars.org/talk/NKUA-HEP/49/
END:VEVENT
END:VCALENDAR
