BEGIN:VCALENDAR
VERSION:2.0
PRODID:researchseminars.org
CALSCALE:GREGORIAN
X-WR-CALNAME:researchseminars.org
BEGIN:VEVENT
SUMMARY:Γεώργιος Κριντήρας (University of Kansas)
DTSTART:20250916T083000Z
DTEND:20250916T100000Z
DTSTAMP:20260423T024826Z
UID:NKUA-HEP/47
DESCRIPTION:Title: <a href="https://researchseminars.org/talk/NKUA-HEP/47/
 ">Το άλλο 95%: Αναζητώντας την προέλευση τη
 ς μάζας</a>\nby Γεώργιος Κριντήρας (University of K
 ansas) as part of NKUA HEP Seminars\n\n\nAbstract\nΠρόγραμμα σε
 μιναρίων για την θέση Επίκουρου Καθηγητ
 ή\nΠειραματικής Φυσικής Στοιχειωδών Σωμ
 ατιδίων (APP35102)\nΤομέας Πυρηνικής Φυσικής 
 και Φυσικής Στοιχειωδών Σωματιδίων\, Τμή
 μα Φυσικής\, ΕΚΠΑ\n
LOCATION:https://researchseminars.org/talk/NKUA-HEP/47/
END:VEVENT
END:VCALENDAR
