BEGIN:VCALENDAR
VERSION:2.0
PRODID:researchseminars.org
CALSCALE:GREGORIAN
X-WR-CALNAME:researchseminars.org
BEGIN:VEVENT
SUMMARY:Αντωνία Παρασκευoπούλου (Max Planck Inst. Mun
 ich &  LMU Munich)
DTSTART:20240513T090000Z
DTEND:20240513T100000Z
DTSTAMP:20260423T024825Z
UID:NKUA-HEP/19
DESCRIPTION:Title: <a href="https://researchseminars.org/talk/NKUA-HEP/19/
 ">Is M-theory emergent?</a>\nby Αντωνία Παρασκευoπούλο
 υ (Max Planck Inst. Munich &  LMU Munich) as part of NKUA HEP Seminars\n\
 nLecture held in High Energy Group seminar room\, 3rd floor.\n\nAbstract\n
 In this talk\, I will present recent progress in the Swampland Program\, w
 hich I will briefly introduce\, focusing primarily on one of its less esta
 blished conjectures\, usually referred to as the Emergence Proposal. This 
 postulates that the low energy effective action of a quantum gravity theor
 y may be obtained by integrating out light towers of states appearing in v
 arious asymptotic regions of the moduli space. In doing so\, I will review
  certain subtleties regarding the species scale\, considered to be the ene
 rgy scale where the effective description of gravity breaks down and will 
 serve as the scale distinguishing perturbative from non-perturbative degre
 es of freedom. I will then proceed to motivate why the Emergence Proposal 
 seems to be naturally realized in the (not yet completely understood) deco
 mpactification limit to M-theory by reviewing recent calculations of highe
 r derivative couplings and independent arguments. The talk will be based o
 n: 2309.11551\, 2404.01371\, 2404.05801.\n
LOCATION:https://researchseminars.org/talk/NKUA-HEP/19/
END:VEVENT
END:VCALENDAR
