BEGIN:VCALENDAR
VERSION:2.0
PRODID:researchseminars.org
CALSCALE:GREGORIAN
X-WR-CALNAME:researchseminars.org
BEGIN:VEVENT
SUMMARY:Irina Bobrova
DTSTART:20240305T080000Z
DTEND:20240305T090000Z
DTSTAMP:20260423T010943Z
UID:NIS2024/7
DESCRIPTION:Title: <a href="https://researchseminars.org/talk/NIS2024/7/">
 Non-Abelian ODEs and O∆Es</a>\nby Irina Bobrova as part of Seminar-Type 
 Workshop on Noncommutative Integrable Systems\n\nAbstract: TBA\n
LOCATION:https://researchseminars.org/talk/NIS2024/7/
END:VEVENT
END:VCALENDAR
