BEGIN:VCALENDAR
VERSION:2.0
PRODID:researchseminars.org
CALSCALE:GREGORIAN
X-WR-CALNAME:researchseminars.org
BEGIN:VEVENT
SUMMARY:Roger Van Peski (MIT)
DTSTART:20211119T154500Z
DTEND:20211119T160000Z
DTSTAMP:20260423T024624Z
UID:NEPS2021/35
DESCRIPTION:Title: <a href="https://researchseminars.org/talk/NEPS2021/35/
 ">Lozenge tilings and the Gaussian free field on a cylinder</a>\nby Roger 
 Van Peski (MIT) as part of 20th Northeast probability seminar\n\nAbstract:
  TBA\n
LOCATION:https://researchseminars.org/talk/NEPS2021/35/
END:VEVENT
END:VCALENDAR
